Workbook
Name A_STAT: #REF!
Name L_PrimResp: #REF!

Sheet Instructions
A1: No. | B1: Action | C1: Comments
A2: 1 | B2: Populate Flags tab first: Project Name and Modifying any drop downs. | C2: Flags are drop down values or referenced elsewhere.
A3: 2 | B3: For each major change, update the Version Date | C3: Reference on other tabs
A4: 3 | B4: Expose or hide other tabs as necessary including the Logical Framework.
A5: 4 | B5: Create a project plan, record questions, manage the PROJECT!

Sheet QDIRF-Sample
F1: Project: | G1: =Flags!B1 -> [PROJECT NAME] | N1: Version: | O1: =Flags!B6 -> [DATE]
A3: Sort | B3: Review | C3: Sub | D3: QDIRF | E3: QIR# | F3: QDIRF-ID | G3: Name | H3: Description | I3: Owner | J3: Priority | K3: Open | L3: Close | M3: Area | N3: Status | O3: Notes | P3: Email Subject | Q3: Meeting topic
A4: =MAX(A5:A12)+1 -> 7 | B4: =IF(D4="QIR","Copy/Paste",IF(LEN(G4)>50,"Name2Long","Good")) -> Copy/Paste | C4: Sub | D4: QIR | E4: 1 | F4: =IF(D4="QIR","",LEFT(D4,1)& RIGHT("000"&E4,2)) | G4: [< 50 char] | H4: [Just Enough Information] | J4: Priority | N4: QIR Status | O4: MMM-DD OPEN, CLOSE: Notes | P4: =$G$1&IF($C4="Sub",""," "&$C4)&" - "&D4&" ("&F4&") - "&G4 -> [PROJECT NAME] - QIR () - [< 50 char] | Q4: =$G$1&IF($C4="Sub",""," "&$C4)&" - "&$D4&" ("&$F4&") - "&$G4&": "&$I4 -> [PROJECT NAME] - QIR () - [< 50 char]:
A5: 6 | B5: =IF(D5="QIR","Copy/Paste",IF(LEN(G5)>50,"Name2Long","Good")) -> Name2Long | C5: Sub | D5: Question | E5: 99 | F5: =IF(D5="QIR","",LEFT(D5,1)& RIGHT("000"&E5,2)) -> Q99 | G5: EXAMPLE: > 50 Characters in the name field, this one is 58 | H5: Example of a too long name | I5: Inn Charj | J5: a.TBD | N5: QIR Status | O5: MMM-DD OPEN, CLOSE: Notes | P5: =$G$1&IF($C5="Sub",""," "&$C5)&" - "&D5&" ("&F5&") - "&G5 -> [PROJECT NAME] - Question (Q99) - EXAMPLE: > 50 Characters in the name field, this one is 58 | Q5: =$G$1&IF($C5="Sub",""," "&$C5)&" - "&$D5&" ("&$F5&") - "&$G5&": "&$I5 -> [PROJECT NAME] - Question (Q99) - EXAMPLE: > 50 Characters in the name field, this one is 58: Inn Charj
A6: 5 | B6: =IF(LEN(G6)>50,"Name2Long","Good") -> Good | C6: Sub | D6: Issue | E6: 2 | F6: =IF(D6="QIR","",LEFT(D6,1)& RIGHT("000"&E6,2)) -> I02 | G6: Budget for Mandarin | H6: Is there contingency funds to translate material into Mandarin. | I6: Inn Charj | J6: c.Medium | K6: 72675 | M6: PM | N6: a.Open | O6: Dec-21, OPEN: To review with Proj board in Janary | P6: =$G$1&IF($C6="Sub",""," "&$C6)&" - "&D6&" ("&F6&") - "&G6 -> [PROJECT NAME] - Issue (I02) - Budget for Mandarin | Q6: =$G$1&IF($C6="Sub",""," "&$C6)&" - "&$D6&" ("&$F6&") - "&$G6&": "&$I6 -> [PROJECT NAME] - Issue (I02) - Budget for Mandarin: Inn Charj
A7: 4 | B7: =IF(D7="QIR","Copy/Paste",IF(LEN(G7)>50,"Name2Long","Good")) -> Good | C7: Sub | D7: Question | E7: 3 | F7: =IF(D7="QIR","",LEFT(D7,1)& RIGHT("000"&E7,2)) -> Q03 | G7: Translate Material | H7: Translate into French, Ukranian or Mandarin? | I7: Bobs Uruncle | J7: c.Medium | K7: 72658 | L7: 72675 | M7: Vol | N7: t.Transferred | O7: Dec 21, CLOSE: Sponsor agrees with approach. Translation added to project plan for French and Ukraine (see WBS 2.3.5 & 2.3.6); budget for Mandarin to be sought from board, see issue #2. Dec 15: Recommendation at Team meeting, discuss with sponsor. Dec 6-14: Bob Investigating Dec 5: Assigned to Bob. Dec 4, OPEN: Question from team meeting. | P7: =$G$1&IF($C7="Sub",""," "&$C7)&" - "&D7&" ("&F7&") - "&G7 -> [PROJECT NAME] - Question (Q03) - Translate Material | Q7: =$G$1&IF($C7="Sub",""," "&$C7)&" - "&$D7&" ("&$F7&") - "&$G7&": "&$I7 -> [PROJECT NAME] - Question (Q03) - Translate Material: Bobs Uruncle
A8: 3 | B8: =IF(LEN(G8)>50,"Name2Long","Good") -> Good | C8: Sub | D8: Question | E8: 2 | F8: =IF(D8="QIR","",LEFT(D8,1)& RIGHT("000"&E8,2)) -> Q02 | G8: Website Loads Slow | H8: Website loading slowly on ie10 | I8: A. Knerd | J8: b.Low | K8: 72657 | M8: IT | N8: a.Open | O8: Dec-3, OPEN: Customer complaints | P8: =$G$1&IF($C8="Sub",""," "&$C8)&" - "&D8&" ("&F8&") - "&G8 -> [PROJECT NAME] - Question (Q02) - Website Loads Slow | Q8: =$G$1&IF($C8="Sub",""," "&$C8)&" - "&$D8&" ("&$F8&") - "&$G8&": "&$I8 -> [PROJECT NAME] - Question (Q02) - Website Loads Slow: A. Knerd
A9: 2 | B9: =IF(LEN(G9)>50,"Name2Long","Good") -> Good | C9: Sub | D9: Issue | E9: 1 | F9: =IF(D9="QIR","",LEFT(D9,1)& RIGHT("000"&E9,2)) -> I01 | G9: Dial Up Modem | H9: Can website work on dial up modem | I9: A. Knerd | J9: b.Low | K9: 72656 | M9: IT | N9: a.Open | O9: Dec-2, OPEN: Northern Canada request | P9: =$G$1&IF($C9="Sub",""," "&$C9)&" - "&D9&" ("&F9&") - "&G9 -> [PROJECT NAME] - Issue (I01) - Dial Up Modem | Q9: =$G$1&IF($C9="Sub",""," "&$C9)&" - "&$D9&" ("&$F9&") - "&$G9&": "&$I9 -> [PROJECT NAME] - Issue (I01) - Dial Up Modem: A. Knerd
A10: 1 | B10: =IF(LEN(G10)>50,"Name2Long","Good") -> Good | C10: Sub | D10: Question | E10: 1 | F10: =IF(D10="QIR","",LEFT(D10,1)& RIGHT("000"&E10,2)) -> Q01 | G10: IT Support | H10: Who will be our IT support? | I10: Inn Charj | J10: d.High | K10: 72655 | M10: PM | N10: c.Closed | O10: Dec 11, CLOSE: Bob onboarded to project Dec 9: CIO assigned Bob to support Dec 2: Board is reviewing Dec-1, OPEN: Who will take care of IT questions. | P10: =$G$1&IF($C10="Sub",""," "&$C10)&" - "&D10&" ("&F10&") - "&G10 -> [PROJECT NAME] - Question (Q01) - IT Support | Q10: =$G$1&IF($C10="Sub",""," "&$C10)&" - "&$D10&" ("&$F10&") - "&$G10&": "&$I10 -> [PROJECT NAME] - Question (Q01) - IT Support: Inn Charj
C11: Sub | P11: =$G$1&IF($C11="Sub",""," "&$C11)&" - "&D11&" ("&F11&") - "&G11 -> [PROJECT NAME] - () - | Q11: =$G$1&IF($C11="Sub",""," "&$C11)&" - "&$D11&" ("&$F11&") - "&$G11&": "&$I11 -> [PROJECT NAME] - () - :
A12: + Sort# | D12: Select QIR | E12: +QIR# | G12: ↑ Copy/Insert FIRST Template Row ↑ | J12: Select | L12: Optional | M12: Optional | N12: Select | O12: [DATE] UPDATE | P12: Copy/Paste

Sheet QDIRF
F1: Project: | G1: =Flags!B1 -> [PROJECT NAME] | N1: Version: | O1: =Flags!B6 -> [DATE]
A3: Sort | B3: Review | C3: Sub | D3: QDIRF | E3: QIR# | F3: QDIRF-ID | G3: Name | H3: Description | I3: Owner | J3: Priority | K3: Open | L3: Close | M3: Area | N3: Status | O3: Notes | P3: Email Subject | Q3: Meeting topic
A4: =MAX(A5:A6)+1 -> 2 | B4: =IF(D4="QIR","Copy/Paste",IF(LEN(G4)>50,"Name2Long","Good")) -> Copy/Paste | C4: Sub | D4: QIR | E4: 1 | F4: =IF(D4="QIR","",LEFT(D4,1)& RIGHT("000"&E4,2)) | G4: [< 50 char] | H4: [Just Enough Information] | J4: Priority | N4: QIR Status | O4: MMM-DD OPEN, CLOSE: Notes | P4: =$G$1&IF($C4="Sub",""," "&$C4)&" - "&D4&" ("&F4&") - "&G4 -> [PROJECT NAME] - QIR () - [< 50 char] | Q4: =$G$1&IF($C4="Sub",""," "&$C4)&" - "&$D4&" ("&$F4&") - "&$G4&": "&$I4 -> [PROJECT NAME] - QIR () - [< 50 char]:
A5: =MAX(A6:A7)+1 -> 1 | B5: =IF(D5="QIR","Copy/Paste",IF(LEN(G5)>50,"Name2Long","Good")) -> Copy/Paste | C5: Sub | D5: QIR | E5: 1 | F5: =IF(D5="QIR","",LEFT(D5,1)& RIGHT("000"&E5,2)) | G5: [< 50 char] | H5: [Just Enough Information] | J5: Priority | N5: QIR Status | O5: MMM-DD OPEN, CLOSE: Notes | P5: =$G$1&IF($C5="Sub",""," "&$C5)&" - "&D5&" ("&F5&") - "&G5 -> [PROJECT NAME] - QIR () - [< 50 char] | Q5: =$G$1&IF($C5="Sub",""," "&$C5)&" - "&$D5&" ("&$F5&") - "&$G5&": "&$I5 -> [PROJECT NAME] - QIR () - [< 50 char]:
A6: + Sort# | D6: Select QIR | E6: +QIR# | G6: ↑ Copy/Insert FIRST Template Row ↑ | J6: Select | L6: Optional | M6: Optional | N6: Select | O6: [DATE] UPDATE | P6: Copy/Paste

Sheet ProjPlan
A1: =Flags!B1 -> [PROJECT NAME] | D1: =D2&": ["&E2&"]; "&D3&": ["&E3&"]; "&D4&": ["&E4&"]; "&D5&": ["&E5&"] - [Counts]" -> : [1.Not Started]; : [3.In Progress]; : [8.Abandoned]; : [9.Completed] - [Counts] | F1: =SUM(F9:F41) -> 0 | H1: Version: | I1: =Flags!$B$6 -> [DATE]
E2: =Flags!A40 -> 1.Not Started
E3: =Flags!A41 -> 3.In Progress
E4: =Flags!A42 -> 8.Abandoned
E5: =Flags!A43 -> 9.Completed
C7: Proj | H7: Completion | I7: Assigned/Status
A9: Task | B9: Name | C9: Element | D9: Description | E9: Comments | F9: Days | G9: Status | H9: Date | I9: Who | J9: Email Subject
A10: 100 | B10: Project Initiation | C10: 1. Milestone | G10: 9.Completed | J10: =IF(A10="","",$A$1&" - "&B10&" ("&A10&")") -> [PROJECT NAME] - Project Initiation (100)
G11: 1.Not Started | J11: =IF(A11="","",$A$1&" - "&B11&" ("&A11&")")
G12: 3.In Progress | J12: =IF(A12="","",$A$1&" - "&B12&" ("&A12&")")
G13: 8.Abandoned | J13: =IF(A13="","",$A$1&" - "&B13&" ("&A13&")")
J14: =IF(A14="","",$A$1&" - "&B14&" ("&A14&")")
J15: =IF(A15="","",$A$1&" - "&B15&" ("&A15&")")
J16: =IF(A16="","",$A$1&" - "&B16&" ("&A16&")")
J17: =IF(A17="","",$A$1&" - "&B17&" ("&A17&")")
J18: =IF(A18="","",$A$1&" - "&B18&" ("&A18&")")
J19: =IF(A19="","",$A$1&" - "&B19&" ("&A19&")")
J20: =IF(A20="","",$A$1&" - "&B20&" ("&A20&")")
J21: =IF(A21="","",$A$1&" - "&B21&" ("&A21&")")
J22: =IF(A22="","",$A$1&" - "&B22&" ("&A22&")")
J23: =IF(A23="","",$A$1&" - "&B23&" ("&A23&")")
J24: =IF(A24="","",$A$1&" - "&B24&" ("&A24&")")
J25: =IF(A25="","",$A$1&" - "&B25&" ("&A25&")")
... J40: =IF(A40="","",$A$1&" - "&B40&" ("&A40&")")
A41: + Sort# | D41: Select QIR | E41: +QIR# | H41: ^^ Copy/Insert FIRST Template Row ^^ | J41: Select | L41: Optional | N41: Optional | O41: Select | P41: [DATE] UPDATE | Q41: Copy/Paste

Sheet Contacts
A1: =Flags!B1&" - Key Contacts" -> [PROJECT NAME] - Key Contacts | D1: Version: | E1: =Flags!$B$6 -> [DATE]
A2: Email | B2: _Name | C2: Entity | D2: Role | E2: Comment
B3: A. Knerd | C3: AGov | D3: Technical
B4: Bobs Uruncle | C4: AGov | D4: Bus. Analyst
B5: Inn Charj | C5: Consult-R-Us | D5: Proj Mgr
A7: ↑ Insert Row Above | B7: ↑ Insert Row Above | E7: ↑ Insert Row Above

Sheet SampleFunctionMap
A1: SAMPLE FUNCTION MAPPING - Function to Menu Desired Map
A2: Menu Item | B2: Public | C2: Member - No Vol Admin Access | D2: Volunteer (Hike Leader) | E2: Executive Only | F2: Executive & Volunteer | G2: ALL Web Site Functions | H2: Waiver Admin Functions | I2: Communication Mgr Functions | J2: Photo Historian Functions | K2: Content Mgr Functions | L2: Treasurer Functions | M2: Volunteer Coordinator Functions | N2: Training Coordinator Functions | O2: Partner/Banner Data Functions | P2: Safety Functions
A3: Volunteers' Area | D3: Yes | E3: Yes | F3: Yes | G3: Yes | H3: Yes | I3: Yes | J3: Yes | K3: Yes | L3: Yes | M3: Yes | N3: Yes | O3: Yes | P3: Yes
A4: Manage Events: | D4: Yes | E4: Yes | F4: Yes | G4: Yes | H4: Yes | I4: Yes | J4: Yes | K4: Yes | L4: Yes | M4: Yes | N4: Yes | O4: Yes | P4: Yes
A5: - Coordinate Upcoming | D5: Yes | E5: Yes | F5: Yes | G5: Yes | H5: Yes | I5: Yes | J5: Yes | K5: Yes | L5: Yes | M5: Yes | N5: Yes | O5: Yes | P5: Yes
A6: - Coordinate Past | D6: Yes | E6: Yes | F6: Yes | G6: Yes | H6: Yes | I6: Yes | J6: Yes | K6: Yes | L6: Yes | M6: Yes | N6: Yes | O6: Yes | P6: Yes
A7: - Add/Edit Future | D7: Yes-Add & Edit own | F7: Yes-Add & Edit own | G7: Yes - All | H7: Yes-Add & Edit own | I7: Yes-Add & Edit own | J7: Yes-Add & Edit own | K7: Yes - All | L7: Yes-Add & Edit own | M7: Yes - All | N7: Yes-Add & Edit own | O7: Yes-Add & Edit own | P7: Yes - All
A8: - Edit Past | D8: Yes | F8: Yes | G8: Yes | H8: Yes | I8: Yes | J8: Yes | K8: Yes | L8: Yes | M8: Yes | N8: Yes | O8: Yes | P8: Yes
A9: - Edit Cancelled (Past) | D9: Yes | F9: Yes | G9: Yes | H9: Yes | I9: Yes | J9: Yes | K9: Yes | L9: Yes | M9: Yes | N9: Yes | O9: Yes | P9: Yes
A10: - Event Search | D10: Yes | F10: Yes | G10: Yes | H10: Yes | I10: Yes | J10: Yes | K10: Yes | L10: Yes | M10: Yes | N10: Yes | O10: Yes | P10: Yes
A11: Add Member to Event | D11: Yes | F11: Yes | G11: Yes | H11: Yes | I11: Yes | J11: Yes | K11: Yes | L11: Yes | M11: Yes | N11: Yes | O11: Yes | P11: Yes
A12: Double Bookings | D12: Yes | F12: Yes | G12: Yes | H12: Yes | I12: Yes | J12: Yes | K12: Yes | L12: Yes | M12: Yes | N12: Yes | O12: Yes | P12: Yes
A13: E-Mail All Volunteers | D13: Yes | F13: Yes | G13: Yes | H13: Yes | I13: Yes | J13: Yes | K13: Yes | L13: Yes | M13: Yes | N13: Yes | O13: Yes | P13: Yes
A14: Volunteer Contact Info | D14: Yes | F14: Yes | G14: Yes | H14: Yes | I14: Yes | J14: Yes | K14: Yes | L14: Yes | M14: Yes | N14: Yes | O14: Yes | P14: Yes
A15: Officer/Administration | G15: Yes | I15: Yes | J15: Yes | K15: Yes | L15: Yes | M15: Yes
A16: Member Notations | G16: Yes | L16: Yes | M16: Yes | N16: Yes | P16: Yes
A17: Membership Management | G17: Yes | H17: Yes | I17: Yes | J17: Yes | K17: Yes | L17: Yes | M17: Yes | O17: Yes | P17: Yes
A18: Outstanding Waivers | G18: Yes | H18: Yes | I18: Yes | J18: Yes | K18: Yes | L18: Yes | M18: Yes | O18: Yes | P18: Yes
A19: Missing Waivers | G19: Yes | H19: Yes | J19: Yes | L19: Yes | M19: Yes | O19: Yes | P19: Yes
A20: E-Mail All Members | G20: Yes | I20: Yes | M20: Yes
A21: Send Newsletter | G21: Yes | I21: Yes | K21: Yes | M21: Yes
A22: Upload PDF Newsletter | G22: Yes | I22: Yes | K22: Yes | M22: Yes
A23: Member Postings | G23: Yes | K23: Yes | M23: Yes | N23: Yes | P23: Yes
A24: Archive an Account | G24: Yes | M24: Yes
A25: Delete an Account | G25: Yes | M25: Yes
A26: Reinstate User | G26: Yes | M26: Yes
A27: Transfer an Account | G27: Yes | M27: Yes
A28: Flag Invalid EMail | G28: Yes | M28: Yes
A29: Reset Member Password | G29: Yes | H29: Yes | I29: Yes | M29: Yes
A30: Volunteer Admin | G30: Yes | K30: Yes | M30: Yes
A31: Volunteer Photos | G31: Yes | J31: Yes | K31: Yes | M31: Yes
A32: Treasurer | G32: Yes | L32: Yes | M32: Yes
A33: Manage Member Fees | G33: Yes | L33: Yes | M33: Yes
A34: Webmaster | G34: Yes | M34: Yes
A35: Announcements | G35: Yes | M35: Yes
A36: Site Verbiage | G36: Yes | M36: Yes
A37: Lookup Tables | G37: Yes | M37: Yes
A38: Web Site Options | G38: Yes | M38: Yes
A39: Data Query | G39: Yes | M39: Yes
A40: Data Hammer | G40: Yes | M40: Yes
...

Sheet Risk Log
F1: 0.Unknown | G1: 0
F2: 1. Low | G2: 1
F3: 3. Moderate | G3: 3
F4: 5. Medium | G4: 5
F5: 7.High | G5: 7
F6: 8. Very High | G6: 8
F7: Critical | G7: 10
A18: =ProjPlan!A1 -> [PROJECT NAME] | D18: *** Use the QDIRF Unless a Dedicated Log is Required **** | K18: *** Hide this Tab if QDIRF is Used or Delete Red Text *** | O18: Log Version#: | P18: =ProjPlan!I1 -> [DATE]
A19: ID | B19: Date Raised | C19: Raised By | D19: Category | E19: Description of Risk | F19: Prob. Low=1 Med=5 High=10 | G19: Impact Low=1 Med=5 High=10 | J19: Score Prob. X Impact | K19: Wtd Score 0-100 | L19: Description of Impact | M19: Response Strategy | N19: Action (Risk Response) | O19: Owner | P19: Outcome
A20: 1 | B20: 40056 | C20: 1. Frank | D20: Resource Risks | E20: Finding operational TM Leader/Chair | F20: 7.High | G20: Critical | K20: =IF(ISBLANK(F20),"",IF(ISBLANK(G20),"",VLOOKUP(F20,L_ValueScore,2)*VLOOKUP(G20,L_ValueScore,2))) -> #NAME?
A21: 2 | K21: =IF(ISBLANK(F21),"",IF(ISBLANK(G21),"",VLOOKUP(F21,L_ValueScore,2)*VLOOKUP(G21,L_ValueScore,2)))
A22: 3 | K22: =IF(ISBLANK(F22),"",IF(ISBLANK(G22),"",VLOOKUP(F22,L_ValueScore,2)*VLOOKUP(G22,L_ValueScore,2)))
A23: 4 | K23: =IF(ISBLANK(F23),"",IF(ISBLANK(G23),"",VLOOKUP(F23,L_ValueScore,2)*VLOOKUP(G23,L_ValueScore,2)))
A24: 5 | K24: =IF(ISBLANK(F24),"",IF(ISBLANK(G24),"",VLOOKUP(F24,L_ValueScore,2)*VLOOKUP(G24,L_ValueScore,2)))
A25: 6
A26: 7 | F26: 0.Unknown | G26: 0.Unknown | K26: =IF(ISBLANK(F26),"",IF(ISBLANK(G26),"",VLOOKUP(F26,L_ValueScore,2)*VLOOKUP(G26,L_ValueScore,2))) -> #NAME?
A27: 8 | F27: 0.Unknown | G27: 0.Unknown | K27: =IF(ISBLANK(F27),"",IF(ISBLANK(G27),"",VLOOKUP(F27,L_ValueScore,2)*VLOOKUP(G27,L_ValueScore,2))) -> #NAME?
A28: 9 | F28: 0.Unknown | G28: 0.Unknown | K28: =IF(ISBLANK(F28),"",IF(ISBLANK(G28),"",VLOOKUP(F28,L_ValueScore,2)*VLOOKUP(G28,L_ValueScore,2))) -> #NAME?
A29: 10 | F29: 0.Unknown | G29: 0.Unknown | K29: =IF(ISBLANK(F29),"",IF(ISBLANK(G29),"",VLOOKUP(F29,L_ValueScore,2)*VLOOKUP(G29,L_ValueScore,2))) -> #NAME?
A30: 11 | F30: 0.Unknown | G30: 0.Unknown | K30: =IF(ISBLANK(F30),"",IF(ISBLANK(G30),"",VLOOKUP(F30,L_ValueScore,2)*VLOOKUP(G30,L_ValueScore,2))) -> #NAME?
A31: 12 | F31: 0.Unknown | G31: 0.Unknown | K31: =IF(ISBLANK(F31),"",IF(ISBLANK(G31),"",VLOOKUP(F31,L_ValueScore,2)*VLOOKUP(G31,L_ValueScore,2))) -> #NAME?
A32: 13 | F32: 0.Unknown | G32: 0.Unknown | K32: =IF(ISBLANK(F32),"",IF(ISBLANK(G32),"",VLOOKUP(F32,L_ValueScore,2)*VLOOKUP(G32,L_ValueScore,2))) -> #NAME?
A33: 14 | F33: 0.Unknown | G33: 0.Unknown | K33: =IF(ISBLANK(F33),"",IF(ISBLANK(G33),"",VLOOKUP(F33,L_ValueScore,2)*VLOOKUP(G33,L_ValueScore,2))) -> #NAME?
A34: 15 | F34: 0.Unknown | G34: 0.Unknown | K34: =IF(ISBLANK(F34),"",IF(ISBLANK(G34),"",VLOOKUP(F34,L_ValueScore,2)*VLOOKUP(G34,L_ValueScore,2))) -> #NAME?
A35: 16 | F35: 0.Unknown | G35: 0.Unknown | K35: =IF(ISBLANK(F35),"",IF(ISBLANK(G35),"",VLOOKUP(F35,L_ValueScore,2)*VLOOKUP(G35,L_ValueScore,2))) -> #NAME?
A36: 17 | F36: 0.Unknown | G36: 0.Unknown | K36: =IF(ISBLANK(F36),"",IF(ISBLANK(G36),"",VLOOKUP(F36,L_ValueScore,2)*VLOOKUP(G36,L_ValueScore,2))) -> #NAME?
A37: 18 | F37: 0.Unknown | G37: 0.Unknown | K37: =IF(ISBLANK(F37),"",IF(ISBLANK(G37),"",VLOOKUP(F37,L_ValueScore,2)*VLOOKUP(G37,L_ValueScore,2))) -> #NAME?
... A44: 25 | F44: 8. Very High | G44: Critical | K44: =IF(ISBLANK(F44),"",IF(ISBLANK(G44),"",VLOOKUP(F44,L_ValueScore,2)*VLOOKUP(G44,L_ValueScore,2))) -> #NAME?
B45: < 10 | C45: Low Risk, monitor but no action | F45: 49 | G45: Moderate risk, monitor risk and engage action | M45: 64 | N45: High risk, monitor risk, steering group action requested
B46: 15-35 | C46: Low risk, active monitoring but no action | F46: 56 | G46: Moderate risk, monitor risk, engage action, flag to steering group | M46: 80+ | N46: Extreme risk, project champion to mediate and correct

Sheet Issue Log
B1: =ProjPlan!A1 -> [PROJECT NAME] | D1: *** Use the QDIRF Unless a Dedicated Log is Required **** | L1: Log Version#: | M1: =ProjPlan!I1 -> [DATE]
B2: Red | C2: = Reassigned to Risk Log | D2: *** Hide this Tab if QDIRF is Used or Delete Red Text *** | K2: =SUMIF(F$6:F$298,"Open",A$6:A$298) -> 0 | L2: Open Issues
K3: =SUMIF(F$6:F$298,"Assigned",A$6:A$298) -> 0 | L3: Assigned Issues
K4: =SUMIF(F$6:F$298,"CLosed",A$6:A$298) -> 0 | L4: Closed Issues
B5: ID | C5: Issue | D5: Action Item (including resolution description) | E5: Phase | F5: Status -Open -Assig'd -Closed | G5: Opened dd/mm/yyyy | H5: Due Date (if available) | I5: Completed Date | J5: Raised by | K5: Assig'd To | L5: Severity (Impact) a | M5: Project Component b
A6: 1 | B6: 1
A7: 1 | B7: 2
A8: 1 | B8: 3
A9: 1 | B9: 4
A10: 1 | B10: 5
A11: 1 | B11: 6
A12: 1 | B12: 7
A13: 1 | B13: 8
A14: 1 | B14: 9
A15: 1 | B15: 10
A16: 1 | B16: 11
A17: 1 | B17: 12
... A53: 1 | B53: 48
A54: 1 | B54: Notes | C54: (a) 1 - Critical; 2 - Serious; 3 - Minor; 4 - No Impact
A55: 1 | C55: (b) Production; Writing; Maps; Resources; Distribution
A56: 1
A57: 1
A58: 1
A59: 1
A60: 1
A61: 1
A62: 1
A63: 1
A64: 1
A65: 1
A66: 1
A67: 1
... A299: 1

Sheet LF-Charter
A1: =Flags!$B$1 -> [PROJECT NAME] | C1: *** Hide this Tab if a Logical Framework NOT is Needed *** | D1: Version: | E1: =Flags!$B$6 -> [DATE]
A2: WHAT | B2: Summary | C2: Indicators | D2: Verification | E2: Assumptions
A3: Goal | C3: 1) 2) 3) | D3: a. b. c. d. | E3: ASSUMPTION - IN SCOPE - OUT of SCOPE -
A4: Purpose | C4: 1) 2) 3) | D4: a. b. c. d. | E4: ASSUMPTION - IN SCOPE - OUT of SCOPE -
A5: Outputs | C5: 1) 2) 3) | D5: a. b. c. d. | E5: ASSUMPTION - IN SCOPE - OUT of SCOPE -
A6: Activities | C6: 1) 2) 3) | D6: a. b. c. d. | E6: ASSUMPTION - IN SCOPE - OUT of SCOPE -

Sheet Flags
A1: Project Name: | B1: [PROJECT NAME]
A2: Sub | B2: Sub Project
A3: 123 | B3: Sub Component 123
A4: 456 | B4: Sub Component 456
A6: Version | B6: [DATE]
A8: QIR
A9: Question | B9: unknown relating to the project that may escalate to an issue, risk or task or only require clarification.
A10: Decision | B10: Formal Decision to close the gap
A11: Fault | B11: Defect or problem identified
A12: Issue | B12: Current gap that could hinder project progress
A13: Risk | B13: Possible future occurence impacting the project
A16: Priority
A17: a.TBD | B17: Not evaluated
A18: b.Low | B18: As time and resources permit
A19: c.Medium | B19: Resolve soon if resources permit
A20: d.High | B20: Critical attention is required
A22: QIR Status | B22: Description
A23: a.Open | B23: Actively managed
A24: c.Closed | B24: Resolved
A25: t.Transferred | B25: Promoted to Issue, Task, Risk, Decision, or Other
A26: z.Abandoned | B26: Closed without resolution
A28: _Who | B28: Who is assigned to the Task or Question?
A29: - | B29: USE Contact List
A30: 0.Unassigned
A31: 1. Name
A32: 2. Name
A33: 3. Name
A34: 4.
A35: 5.
A36: zEnd
A38: _Status | B38: What is the Status of Task?
A39: -
A40: 1.Not Started
A41: 3.In Progress
A42: 8.Abandoned
A43: 9.Completed
A44: zEnd
A46: _Type | B46: Type of Project Plan Activity
A48: 1. Milestone
A49: 2. Task
...
