Workbook
Name A_STAT: #REF!
Name L_PrimResp: #REF!

Sheet Instructions
A1: No. | B1: Action | C1: Comments
A2: 1 | B2: Populate Flags tab first: Project Name and Modifying any drop downs. | C2: Flags are drop down values or referenced elsewhere.
A3: 2 | B3: For each major change, update the Version Date | C3: Reference on other tabs
A4: 3 | B4: Expose or hide other tabs as necessary including the Logical Framework.
A5: 4 | B5: Create a project plan, record questions, manage the PROJECT!

Sheet QDIRF-Sample
F1: Project: | G1: =Flags!B1 -> [PROJECT NAME] | N1: Version: | O1: =Flags!B6 -> [DATE]
A3: Sort | B3: Review | C3: Sub | D3: QDIRF | E3: QIR# | F3: QDIRF-ID | G3: Name | H3: Description | I3: Owner | J3: Priority | K3: Open | L3: Close | M3: Area | N3: Status | O3: Notes | P3: Email Subject | Q3: Meeting topic
A4: =MAX(A5:A12)+1 -> 7 | B4: =IF(D4="QIR","Copy/Paste",IF(LEN(G4)>50,"Name2Long","Good")) -> Copy/Paste | C4: Sub | D4: QIR | E4: 1 | F4: =IF(D4="QIR","",LEFT(D4,1)& RIGHT("000"&E4,2)) | G4: [< 50 char] | H4: [Just Enough Information] | J4: Priority | N4: QIR Status | O4: MMM-DD OPEN, CLOSE: Notes | P4: =$G$1&IF($C4="Sub",""," "&$C4)&" - "&D4&" ("&F4&") - "&G4 -> [PROJECT NAME] - QIR () - [< 50 char] | Q4: =$G$1&IF($C4="Sub",""," "&$C4)&" - "&$D4&" ("&$F4&") - "&$G4&": "&$I4 -> [PROJECT NAME] - QIR () - [< 50 char]:
A5: 6 | B5: =IF(D5="QIR","Copy/Paste",IF(LEN(G5)>50,"Name2Long","Good")) -> Name2Long | C5: Sub | D5: Question | E5: 99 | F5: =IF(D5="QIR","",LEFT(D5,1)& RIGHT("000"&E5,2)) -> Q99 | G5: EXAMPLE: > 50 Characters in the name field, this one is 58 | H5: Example of a too long name | I5: Inn Charj | J5: a.TBD | N5: QIR Status | O5: MMM-DD OPEN, CLOSE: Notes | P5: =$G$1&IF($C5="Sub",""," "&$C5)&" - "&D5&" ("&F5&") - "&G5 -> [PROJECT NAME] - Question (Q99) - EXAMPLE: > 50 Characters in the name field, this one is 58 | Q5: =$G$1&IF($C5="Sub",""," "&$C5)&" - "&$D5&" ("&$F5&") - "&$G5&": "&$I5 -> [PROJECT NAME] - Question (Q99) - EXAMPLE: > 50 Characters in the name field, this one is 58: Inn Charj
A6: 5 | B6: =IF(LEN(G6)>50,"Name2Long","Good") -> Good | C6: Sub | D6: Issue | E6: 2 | F6: =IF(D6="QIR","",LEFT(D6,1)& RIGHT("000"&E6,2)) -> I02 | G6: Budget for Mandarin | H6: Is there contingency funds to translate material into Mandarin. | I6: Inn Charj | J6: c.Medium | K6: 72675 | M6: PM | N6: a.Open | O6: Dec-21, OPEN: To review with Proj board in Janary | P6: =$G$1&IF($C6="Sub",""," "&$C6)&" - "&D6&" ("&F6&") - "&G6 -> [PROJECT NAME] - Issue (I02) - Budget for Mandarin | Q6: =$G$1&IF($C6="Sub",""," "&$C6)&" - "&$D6&" ("&$F6&") - "&$G6&": "&$I6 -> [PROJECT NAME] - Issue (I02) - Budget for Mandarin: Inn Charj
A7: 4 | B7: =IF(D7="QIR","Copy/Paste",IF(LEN(G7)>50,"Name2Long","Good")) -> Good | C7: Sub | D7: Question | E7: 3 | F7: =IF(D7="QIR","",LEFT(D7,1)& RIGHT("000"&E7,2)) -> Q03 | G7: Translate Material | H7: Translate into French, Ukranian or Mandarin? | I7: Bobs Uruncle | J7: c.Medium | K7: 72658 | L7: 72675 | M7: Vol | N7: t.Transferred | O7: Dec 21, CLOSE: Sponsor agrees with approach. Translation added to project plan for French and Ukraine (see WBS 2.3.5 & 2.3.6); budget for Mandarin to be sought from board, see issue #2. Dec 15: Recommendation at Team meeting, discuss with sponsor. Dec 6-14: Bob Investigating Dec 5: Assigned to Bob. Dec 4, OPEN: Question from team meeting. | P7: =$G$1&IF($C7="Sub",""," "&$C7)&" - "&D7&" ("&F7&") - "&G7 -> [PROJECT NAME] - Question (Q03) - Translate Material | Q7: =$G$1&IF($C7="Sub",""," "&$C7)&" - "&$D7&" ("&$F7&") - "&$G7&": "&$I7 -> [PROJECT NAME] - Question (Q03) - Translate Material: Bobs Uruncle
A8: 3 | B8: =IF(LEN(G8)>50,"Name2Long","Good") -> Good | C8: Sub | D8: Question | E8: 2 | F8: =IF(D8="QIR","",LEFT(D8,1)& RIGHT("000"&E8,2)) -> Q02 | G8: Website Loads Slow | H8: Website loading slowly on ie10 | I8: A. Knerd | J8: b.Low | K8: 72657 | M8: IT | N8: a.Open | O8: Dec-3, OPEN: Customer complaints | P8: =$G$1&IF($C8="Sub",""," "&$C8)&" - "&D8&" ("&F8&") - "&G8 -> [PROJECT NAME] - Question (Q02) - Website Loads Slow | Q8: =$G$1&IF($C8="Sub",""," "&$C8)&" - "&$D8&" ("&$F8&") - "&$G8&": "&$I8 -> [PROJECT NAME] - Question (Q02) - Website Loads Slow: A. Knerd
A9: 2 | B9: =IF(LEN(G9)>50,"Name2Long","Good") -> Good | C9: Sub | D9: Issue | E9: 1 | F9: =IF(D9="QIR","",LEFT(D9,1)& RIGHT("000"&E9,2)) -> I01 | G9: Dial Up Modem | H9: Can website work on dial up modem | I9: A. Knerd | J9: b.Low | K9: 72656 | M9: IT | N9: a.Open | O9: Dec-2, OPEN: Northern Canada request | P9: =$G$1&IF($C9="Sub",""," "&$C9)&" - "&D9&" ("&F9&") - "&G9 -> [PROJECT NAME] - Issue (I01) - Dial Up Modem | Q9: =$G$1&IF($C9="Sub",""," "&$C9)&" - "&$D9&" ("&$F9&") - "&$G9&": "&$I9 -> [PROJECT NAME] - Issue (I01) - Dial Up Modem: A. Knerd
A10: 1 | B10: =IF(LEN(G10)>50,"Name2Long","Good") -> Good | C10: Sub | D10: Question | E10: 1 | F10: =IF(D10="QIR","",LEFT(D10,1)& RIGHT("000"&E10,2)) -> Q01 | G10: IT Support | H10: Who will be our IT support? | I10: Inn Charj | J10: d.High | K10: 72655 | M10: PM | N10: c.Closed | O10: Dec 11, CLOSE: Bob onboarded to project Dec 9: CIO assigned Bob to support Dec 2: Board is reviewing Dec-1, OPEN: Who will take care of IT questions. | P10: =$G$1&IF($C10="Sub",""," "&$C10)&" - "&D10&" ("&F10&") - "&G10 -> [PROJECT NAME] - Question (Q01) - IT Support | Q10: =$G$1&IF($C10="Sub",""," "&$C10)&" - "&$D10&" ("&$F10&") - "&$G10&": "&$I10 -> [PROJECT NAME] - Question (Q01) - IT Support: Inn Charj
C11: Sub | P11: =$G$1&IF($C11="Sub",""," "&$C11)&" - "&D11&" ("&F11&") - "&G11 -> [PROJECT NAME] - () - | Q11: =$G$1&IF($C11="Sub",""," "&$C11)&" - "&$D11&" ("&$F11&") - "&$G11&": "&$I11 -> [PROJECT NAME] - () - :
A12: + Sort# | D12: Select QIR | E12: +QIR# | G12: ↑ Copy/Insert FIRST Template Row ↑ | J12: Select | L12: Optional | M12: Optional | N12: Select | O12: [DATE] UPDATE | P12: Copy/Paste

Sheet QDIRF
F1: Project: | G1: =Flags!B1 -> [PROJECT NAME] | N1: Version: | O1: =Flags!B6 -> [DATE]
A3: Sort | B3: Review | C3: Sub | D3: QDIRF | E3: QIR# | F3: QDIRF-ID | G3: Name | H3: Description | I3: Owner | J3: Priority | K3: Open | L3: Close | M3: Area | N3: Status | O3: Notes | P3: Email Subject | Q3: Meeting topic
A4: =MAX(A5:A6)+1 -> 2 | B4: =IF(D4="QIR","Copy/Paste",IF(LEN(G4)>50,"Name2Long","Good")) -> Copy/Paste | C4: Sub | D4: QIR | E4: 1 | F4: =IF(D4="QIR","",LEFT(D4,1)& RIGHT("000"&E4,2)) | G4: [< 50 char] | H4: [Just Enough Information] | J4: Priority | N4: QIR Status | O4: MMM-DD OPEN, CLOSE: Notes | P4: =$G$1&IF($C4="Sub",""," "&$C4)&" - "&D4&" ("&F4&") - "&G4 -> [PROJECT NAME] - QIR () - [< 50 char] | Q4: =$G$1&IF($C4="Sub",""," "&$C4)&" - "&$D4&" ("&$F4&") - "&$G4&": "&$I4 -> [PROJECT NAME] - QIR () - [< 50 char]:
A5: =MAX(A6:A7)+1 -> 1 | B5: =IF(D5="QIR","Copy/Paste",IF(LEN(G5)>50,"Name2Long","Good")) -> Copy/Paste | C5: Sub | D5: QIR | E5: 1 | F5: =IF(D5="QIR","",LEFT(D5,1)& RIGHT("000"&E5,2)) | G5: [< 50 char] | H5: [Just Enough Information] | J5: Priority | N5: QIR Status | O5: MMM-DD OPEN, CLOSE: Notes | P5: =$G$1&IF($C5="Sub",""," "&$C5)&" - "&D5&" ("&F5&") - "&G5 -> [PROJECT NAME] - QIR () - [< 50 char] | Q5: =$G$1&IF($C5="Sub",""," "&$C5)&" - "&$D5&" ("&$F5&") - "&$G5&": "&$I5 -> [PROJECT NAME] - QIR () - [< 50 char]:
A6: + Sort# | D6: Select QIR | E6: +QIR# | G6: ↑ Copy/Insert FIRST Template Row ↑ | J6: Select | L6: Optional | M6: Optional | N6: Select | O6: [DATE] UPDATE | P6: Copy/Paste

Sheet ProjPlan
A1: =Flags!B1 -> [PROJECT NAME] | D1: =D2&": ["&E2&"]; "&D3&": ["&E3&"]; "&D4&": ["&E4&"]; "&D5&": ["&E5&"] - [Counts]" -> : [1.Not Started]; : [3.In Progress]; : [8.Abandoned]; : [9.Completed] - [Counts] | F1: =SUM(F9:F41) -> 0 | H1: Version: | I1: =Flags!$B$6 -> [DATE]
E2: =Flags!A40 -> 1.Not Started
E3: =Flags!A41 -> 3.In Progress
E4: =Flags!A42 -> 8.Abandoned
E5: =Flags!A43 -> 9.Completed
C7: Proj | H7: Completion | I7: Assigned/Status
A9: Task | B9: Name | C9: Element | D9: Description | E9: Comments | F9: Days | G9: Status | H9: Date | I9: Who | J9: Email Subject
A10: 100 | B10: Project Initiation | C10: 1. Milestone | G10: 9.Completed | J10: =IF(A10="","",$A$1&" - "&B10&" ("&A10&")") -> [PROJECT NAME] - Project Initiation (100)
G11: 1.Not Started | J11: =IF(A11="","",$A$1&" - "&B11&" ("&A11&")")
G12: 3.In Progress | J12: =IF(A12="","",$A$1&" - "&B12&" ("&A12&")")
G13: 8.Abandoned | J13: =IF(A13="","",$A$1&" - "&B13&" ("&A13&")")
J14: =IF(A14="","",$A$1&" - "&B14&" ("&A14&")")
J15: =IF(A15="","",$A$1&" - "&B15&" ("&A15&")")
J16: =IF(A16="","",$A$1&" - "&B16&" ("&A16&")")
J17: =IF(A17="","",$A$1&" - "&B17&" ("&A17&")")
J18: =IF(A18="","",$A$1&" - "&B18&" ("&A18&")")
J19: =IF(A19="","",$A$1&" - "&B19&" ("&A19&")")
J20: =IF(A20="","",$A$1&" - "&B20&" ("&A20&")")
J21: =IF(A21="","",$A$1&" - "&B21&" ("&A21&")")
J22: =IF(A22="","",$A$1&" - "&B22&" ("&A22&")")
J23: =IF(A23="","",$A$1&" - "&B23&" ("&A23&")")
J24: =IF(A24="","",$A$1&" - "&B24&" ("&A24&")")
J25: =IF(A25="","",$A$1&" - "&B25&" ("&A25&")")
... J40: =IF(A40="","",$A$1&" - "&B40&" ("&A40&")")
A41: + Sort# | D41: Select QIR | E41: +QIR# | H41: ^^ Copy/Insert FIRST Template Row ^^ | J41: Select | L41: Optional | N41: Optional | O41: Select | P41: [DATE] UPDATE | Q41: Copy/Paste

Sheet Contacts
A1: =Flags!B1&" - Key Contacts" -> [PROJECT NAME] - Key Contacts | D1: Version: | E1: =Flags!$B$6 -> [DATE]
A2: Email | B2: _Name | C2: Entity | D2: Role | E2: Comment
B3: A. Knerd | C3: AGov | D3: Technical
B4: Bobs Uruncle | C4: AGov | D4: Bus. Analyst
B5: Inn Charj | C5: Consult-R-Us | D5: Proj Mgr
A7: ↑ Insert Row Above | B7: ↑ Insert Row Above | E7: ↑ Insert Row Above

Sheet SampleFunctionMap
A1: SAMPLE FUNCTION MAPPING - Function to Menu Desired Map
A2: Menu Item | B2: Public | C2: Member - No Vol Admin Access | D2: Volunteer (Hike Leader) | E2: Executive Only | F2: Executive & Volunteer | G2: ALL Web Site Functions | H2: Waiver Admin Functions | I2: Communication Mgr Functions | J2: Photo Historian Functions | K2: Content Mgr Functions | L2: Treasurer Functions | M2: Volunteer Coordinator Functions | N2: Training Coordinator Functions | O2: Partner/Banner Data Functions | P2: Safety Functions
A3: Volunteers' Area | D3: Yes | E3: Yes | F3: Yes | G3: Yes | H3: Yes | I3: Yes | J3: Yes | K3: Yes | L3: Yes | M3: Yes | N3: Yes | O3: Yes | P3: Yes
A4: Manage Events: | D4: Yes | E4: Yes | F4: Yes | G4: Yes | H4: Yes | I4: Yes | J4: Yes | K4: Yes | L4: Yes | M4: Yes | N4: Yes | O4: Yes | P4: Yes
A5: - Coordinate Upcoming | D5: Yes | E5: Yes | F5: Yes | G5: Yes | H5: Yes | I5: Yes | J5: Yes | K5: Yes | L5: Yes | M5: Yes | N5: Yes | O5: Yes | P5: Yes
A6: - Coordinate Past | D6: Yes | E6: Yes | F6: Yes | G6: Yes | H6: Yes | I6: Yes | J6: Yes | K6: Yes | L6: Yes | M6: Yes | N6: Yes | O6: Yes | P6: Yes
A7: - Add/Edit Future | D7: Yes-Add & Edit own | F7: Yes-Add & Edit own | G7: Yes - All | H7: Yes-Add & Edit own | I7: Yes-Add & Edit own | J7: Yes-Add & Edit own | K7: Yes - All | L7: Yes-Add & Edit own | M7: Yes - All | N7: Yes-Add & Edit own | O7: Yes-Add & Edit own | P7: Yes - All
A8: - Edit Past | D8: Yes | F8: Yes | G8: Yes | H8: Yes | I8: Yes | J8: Yes | K8: Yes | L8: Yes | M8: Yes | N8: Yes | O8: Yes | P8: Yes
A9: - Edit Cancelled (Past) | D9: Yes | F9: Yes | G9: Yes | H9: Yes | I9: Yes | J9: Yes | K9: Yes | L9: Yes | M9: Yes | N9: Yes | O9: Yes | P9: Yes
A10: - Event Search | D10: Yes | F10: Yes | G10: Yes | H10: Yes | I10: Yes | J10: Yes | K10: Yes | L10: Yes | M10: Yes | N10: Yes | O10: Yes | P10: Yes
A11: Add Member to Event | D11: Yes | F11: Yes | G11: Yes | H11: Yes | I11: Yes | J11: Yes | K11: Yes | L11: Yes | M11: Yes | N11: Yes | O11: Yes | P11: Yes
A12: Double Bookings | D12: Yes | F12: Yes | G12: Yes | H12: Yes | I12: Yes | J12: Yes | K12: Yes | L12: Yes | M12: Yes | N12: Yes | O12: Yes | P12: Yes
A13: E-Mail All Volunteers | D13: Yes | F13: Yes | G13: Yes | H13: Yes | I13: Yes | J13: Yes | K13: Yes | L13: Yes | M13: Yes | N13: Yes | O13: Yes | P13: Yes
A14: Volunteer Contact Info | D14: Yes | F14: Yes | G14: Yes | H14: Yes | I14: Yes | J14: Yes | K14: Yes | L14: Yes | M14: Yes | N14: Yes | O14: Yes | P14: Yes
A15: Officer/Administration | G15: Yes | I15: Yes | J15: Yes | K15: Yes | L15: Yes | M15: Yes
A16: Member Notations | G16: Yes | L16: Yes | M16: Yes | N16: Yes | P16: Yes
A17: Membership Management | G17: Yes | H17: Yes | I17: Yes | J17: Yes | K17: Yes | L17: Yes | M17: Yes | O17: Yes | P17: Yes
A18: Outstanding Waivers | G18: Yes | H18: Yes | I18: Yes | J18: Yes | K18: Yes | L18: Yes | M18: Yes | O18: Yes | P18: Yes
A19: Missing Waivers | G19: Yes | H19: Yes | J19: Yes | L19: Yes | M19: Yes | O19: Yes | P19: Yes
A20: E-Mail All Members | G20: Yes | I20: Yes | M20: Yes
A21: Send Newsletter | G21: Yes | I21: Yes | K21: Yes | M21: Yes
A22: Upload PDF Newsletter | G22: Yes | I22: Yes | K22: Yes | M22: Yes
A23: Member Postings | G23: Yes | K23: Yes | M23: Yes | N23: Yes | P23: Yes
A24: Archive an Account | G24: Yes | M24: Yes
A25: Delete an Account | G25: Yes | M25: Yes
A26: Reinstate User | G26: Yes | M26: Yes
A27: Transfer an Account | G27: Yes | M27: Yes
A28: Flag Invalid EMail | G28: Yes | M28: Yes
A29: Reset Member Password | G29: Yes | H29: Yes | I29: Yes | M29: Yes
A30: Volunteer Admin | G30: Yes | K30: Yes | M30: Yes
A31: Volunteer Photos | G31: Yes | J31: Yes | K31: Yes | M31: Yes
A32: Treasurer | G32: Yes | L32: Yes | M32: Yes
A33: Manage Member Fees | G33: Yes | L33: Yes | M33: Yes
A34: Webmaster | G34: Yes | M34: Yes
A35: Announcements | G35: Yes | M35: Yes
A36: Site Verbiage | G36: Yes | M36: Yes
A37: Lookup Tables | G37: Yes | M37: Yes
A38: Web Site Options | G38: Yes | M38: Yes
A39: Data Query | G39: Yes | M39: Yes
A40: Data Hammer | G40: Yes | M40: Yes
A41: Control Panel | G41: Yes | M41: Yes
A42: FTP Site | G42: Yes | M42: Yes
A43: Processes | D43: Yes | F43: Yes | G43: Yes | I43: Yes | J43: Yes | K43: Yes | L43: Yes | M43: Yes | N43: Yes | O43: Yes | P43: Yes
A44: Web Site User Guide | C44: Yes | D44: Yes | F44: Yes | G44: Yes | I44: Yes | J44: Yes | K44: Yes | L44: Yes | M44: Yes | N44: Yes | O44: Yes | P44: Yes
A45: Hike Leader Manual | C45: Yes | D45: Yes | F45: Yes | G45: Yes | I45: Yes | J45: Yes | K45: Yes | L45: Yes | M45: Yes | N45: Yes | O45: Yes | P45: Yes
A46: Waiver Admin | C46: Yes | D46: Yes | F46: Yes | G46: Yes | I46: Yes | J46: Yes | K46: Yes | L46: Yes | M46: Yes | N46: Yes | O46: Yes | P46: Yes
A47: Volunteer Coordination | C47: Yes | D47: Yes | F47: Yes | G47: Yes | I47: Yes | J47: Yes | K47: Yes | L47: Yes | M47: Yes | N47: Yes | O47: Yes | P47: Yes
A48: Events | C48: Yes | D48: Yes | E48: Yes | F48: Yes | G48: Yes | H48: Yes | I48: Yes | J48: Yes | K48: Yes | L48: Yes | M48: Yes | N48: Yes | O48: Yes | P48: Yes
A49: My Upcoming Events | C49: Yes | D49: Yes | E49: Yes | F49: Yes | G49: Yes | H49: Yes | I49: Yes | J49: Yes | K49: Yes | L49: Yes | M49: Yes | N49: Yes | O49: Yes | P49: Yes
A50: My Past Events | C50: Yes | D50: Yes | E50: Yes | F50: Yes | G50: Yes | H50: Yes | I50: Yes | J50: Yes | K50: Yes | L50: Yes | M50: Yes | N50: Yes | O50: Yes | P50: Yes
A51: My Double-Bookings | C51: Yes | D51: Yes | E51: Yes | F51: Yes | G51: Yes | H51: Yes | I51: Yes | J51: Yes | K51: Yes | L51: Yes | M51: Yes | N51: Yes | O51: Yes | P51: Yes
A52: All Upcoming Events | C52: Yes | D52: Yes | E52: Yes | F52: Yes | G52: Yes | H52: Yes | I52: Yes | J52: Yes | K52: Yes | L52: Yes | M52: Yes | N52: Yes | O52: Yes | P52: Yes
A53: All Past Events | C53: Yes | D53: Yes | E53: Yes | F53: Yes | G53: Yes | H53: Yes | I53: Yes | J53: Yes | K53: Yes | L53: Yes | M53: Yes | N53: Yes | O53: Yes | P53: Yes
A54: Coordinate Events | C54: Yes | D54: Yes | E54: Yes | F54: Yes | G54: Yes | H54: Yes | I54: Yes | J54: Yes | K54: Yes | L54: Yes | M54: Yes | N54: Yes | O54: Yes | P54: Yes
A55: Calendar Posting | C55: Yes | D55: Yes | E55: Yes | F55: Yes | G55: Yes | H55: Yes | I55: Yes | J55: Yes | K55: Yes | L55: Yes | M55: Yes | N55: Yes | O55: Yes | P55: Yes
A56: My Account | C56: Yes | D56: Yes | E56: Yes | F56: Yes | G56: Yes | H56: Yes | I56: Yes | J56: Yes | K56: Yes | L56: Yes | M56: Yes | N56: Yes | O56: Yes | P56: Yes
A57: View/Edit Your Info | C57: Yes | D57: Yes | E57: Yes | F57: Yes | G57: Yes | H57: Yes | I57: Yes | J57: Yes | K57: Yes | L57: Yes | M57: Yes | N57: Yes | O57: Yes | P57: Yes
A58: Change Preferences | C58: Yes | D58: Yes | E58: Yes | F58: Yes | G58: Yes | H58: Yes | I58: Yes | J58: Yes | K58: Yes | L58: Yes | M58: Yes | N58: Yes | O58: Yes | P58: Yes
A59: Change Password | C59: Yes | D59: Yes | E59: Yes | F59: Yes | G59: Yes | H59: Yes | I59: Yes | J59: Yes | K59: Yes | L59: Yes | M59: Yes | N59: Yes | O59: Yes | P59: Yes
... A61: Renew Membership | C61: Yes | D61: Yes | E61: Yes | F61: Yes | G61: Yes | H61: Yes | I61: Yes | J61: Yes | K61: Yes | L61: Yes | M61: Yes | N61: Yes | O61: Yes | P61: Yes
A62: Member Info | G62: Yes
A63: Member Network | G63: Yes
A64: My Event Buddies | G64: Yes
A65: Member Web Sites | G65: Yes
A66: Today's Birthdays | G66: Yes
A67: Anniversary List | G67: Yes
A68: Resources | C68: Yes | D68: Yes | E68: Yes | F68: Yes | G68: Yes | H68: Yes | I68: Yes | J68: Yes | K68: Yes | L68: Yes | M68: Yes | N68: Yes | O68: Yes | P68: Yes
A69: Newsletters | C69: Yes | D69: Yes | E69: Yes | F69: Yes | G69: Yes | H69: Yes | I69: Yes | J69: Yes | K69: Yes | L69: Yes | M69: Yes | N69: Yes | O69: Yes | P69: Yes
A70: About Organization | B70: Yes | C70: Yes | D70: Yes | E70: Yes | F70: Yes | G70: Yes | H70: Yes | I70: Yes | J70: Yes | K70: Yes | L70: Yes | M70: Yes | N70: Yes | O70: Yes | P70: Yes
A71: General Info | B71: Yes | C71: Yes | D71: Yes | E71: Yes | F71: Yes | G71: Yes | H71: Yes | I71: Yes | J71: Yes | K71: Yes | L71: Yes | M71: Yes | N71: Yes | O71: Yes | P71: Yes
A72: Volunteers | B72: Yes | C72: Yes | D72: Yes | E72: Yes | F72: Yes | G72: Yes | H72: Yes | I72: Yes | J72: Yes | K72: Yes | L72: Yes | M72: Yes | N72: Yes | O72: Yes | P72: Yes
A73: Statistics | B73: Yes | C73: Yes | D73: Yes | E73: Yes | F73: Yes | G73: Yes | H73: Yes | I73: Yes | J73: Yes | K73: Yes | L73: Yes | M73: Yes | N73: Yes | O73: Yes | P73: Yes
A74: FAQ | B74: Yes | C74: Yes | D74: Yes | E74: Yes | F74: Yes | G74: Yes | H74: Yes | I74: Yes | J74: Yes | K74: Yes | L74: Yes | M74: Yes | N74: Yes | O74: Yes | P74: Yes
A75: How You can Help | B75: Yes | C75: Yes | D75: Yes | E75: Yes | F75: Yes | G75: Yes | H75: Yes | I75: Yes | J75: Yes | K75: Yes | L75: Yes | M75: Yes | N75: Yes | O75: Yes | P75: Yes
A76: Contact Us | B76: Yes | C76: Yes | D76: Yes | E76: Yes | F76: Yes | G76: Yes | H76: Yes | I76: Yes | J76: Yes | K76: Yes | L76: Yes | M76: Yes | N76: Yes | O76: Yes | P76: Yes
A77: Membership | B77: Yes | C77: Yes | D77: Yes | E77: Yes | F77: Yes | G77: Yes | H77: Yes | I77: Yes | J77: Yes | K77: Yes | L77: Yes | M77: Yes | N77: Yes | O77: Yes | P77: Yes
A78: Membership Info | B78: Yes | C78: Yes | D78: Yes | E78: Yes | F78: Yes | G78: Yes | H78: Yes | I78: Yes | J78: Yes | K78: Yes | L78: Yes | M78: Yes | N78: Yes | O78: Yes | P78: Yes
A79: Rules | B79: Yes | C79: Yes | D79: Yes | E79: Yes | F79: Yes | G79: Yes | H79: Yes | I79: Yes | J79: Yes | K79: Yes | L79: Yes | M79: Yes | N79: Yes | O79: Yes | P79: Yes
A80: Waiver | B80: Yes | C80: Yes | D80: Yes | E80: Yes | F80: Yes | G80: Yes | H80: Yes | I80: Yes | J80: Yes | K80: Yes | L80: Yes | M80: Yes | N80: Yes | O80: Yes | P80: Yes
A81: Events | C81: Yes | D81: Yes | E81: Yes | F81: Yes | G81: Yes | H81: Yes | I81: Yes | J81: Yes | K81: Yes | L81: Yes | M81: Yes | N81: Yes | O81: Yes | P81: Yes
A82: Upcoming Events | B82: Yes
A83: Past Events | B83: Yes
A84: Difficulty Ratings | B84: Yes | C84: Yes | D84: Yes | E84: Yes | F84: Yes | G84: Yes | H84: Yes | I84: Yes | J84: Yes | K84: Yes | L84: Yes | M84: Yes | N84: Yes | O84: Yes | P84: Yes
A85: Event Checklists | B85: Yes | C85: Yes | D85: Yes | E85: Yes | F85: Yes | G85: Yes | H85: Yes | I85: Yes | J85: Yes | K85: Yes | L85: Yes | M85: Yes | N85: Yes | O85: Yes | P85: Yes
A86: Etiquette Guidelines | B86: Yes | C86: Yes | D86: Yes | E86: Yes | F86: Yes | G86: Yes | H86: Yes | I86: Yes | J86: Yes | K86: Yes | L86: Yes | M86: Yes | N86: Yes | O86: Yes | P86: Yes
A87: Other | B87: Yes | C87: Yes | D87: Yes | E87: Yes | F87: Yes | G87: Yes | H87: Yes | I87: Yes | J87: Yes | K87: Yes | L87: Yes | M87: Yes | N87: Yes | O87: Yes | P87: Yes
A88: Links | B88: Yes | C88: Yes | D88: Yes | E88: Yes | F88: Yes | G88: Yes | H88: Yes | I88: Yes | J88: Yes | K88: Yes | L88: Yes | M88: Yes | N88: Yes | O88: Yes | P88: Yes
A89: Member Reports | D89: Yes | F89: Yes | G89: Yes | H89: Yes | I89: Yes | J89: Yes | K89: Yes | L89: Yes | M89: Yes | N89: Yes | O89: Yes | P89: Yes
A90: Complete List | D90: Yes | F90: Yes | G90: Yes | H90: Yes | I90: Yes | J90: Yes | K90: Yes | L90: Yes | M90: Yes | N90: Yes | O90: Yes | P90: Yes
A91: Add New Member | D91: Yes | F91: Yes | G91: Yes | H91: Yes | I91: Yes | J91: Yes | K91: Yes | L91: Yes | M91: Yes | N91: Yes | O91: Yes | P91: Yes
A92: Edit Member | G92: Yes | H92: Yes | J92: Yes | K92: Yes | M92: Yes | P92: Yes
A93: Resign Member | G93: Yes | H93: Yes | J93: Yes | K93: Yes | M93: Yes | P93: Yes
A94: Delete Member | G94: Yes | H94: Yes | J94: Yes | K94: Yes | M94: Yes | P94: Yes
A95: Resigned List | D95: Yes | F95: Yes | G95: Yes | H95: Yes | I95: Yes | J95: Yes | K95: Yes | L95: Yes | M95: Yes | N95: Yes | O95: Yes | P95: Yes
A96: Active | D96: Yes | F96: Yes | G96: Yes | H96: Yes | I96: Yes | J96: Yes | K96: Yes | L96: Yes | M96: Yes | N96: Yes | O96: Yes | P96: Yes
A97: Volunteer Activity | D97: Yes | F97: Yes | G97: Yes | H97: Yes | I97: Yes | J97: Yes | K97: Yes | L97: Yes | M97: Yes | N97: Yes | O97: Yes | P97: Yes
A98: Sign-Ups by Month | D98: Yes | F98: Yes | G98: Yes | H98: Yes | I98: Yes | J98: Yes | K98: Yes | L98: Yes | M98: Yes | N98: Yes | O98: Yes | P98: Yes
A99: Attendance Reports | D99: Yes | F99: Yes | G99: Yes | H99: Yes | I99: Yes | J99: Yes | K99: Yes | L99: Yes | M99: Yes | N99: Yes | O99: Yes | P99: Yes
A100: New Sign-Ups | D100: Yes | F100: Yes | G100: Yes | H100: Yes | I100: Yes | J100: Yes | K100: Yes | L100: Yes | M100: Yes | N100: Yes | O100: Yes | P100: Yes
A101: Member Attendance | D101: Yes | F101: Yes | G101: Yes | H101: Yes | I101: Yes | J101: Yes | K101: Yes | L101: Yes | M101: Yes | N101: Yes | O101: Yes | P101: Yes
...

Sheet Risk Log
F1: 0.Unknown | G1: 0
F2: 1. Low | G2: 1
F3: 3. Moderate | G3: 3
F4: 5. Medium | G4: 5
F5: 7.High | G5: 7
F6: 8. Very High | G6: 8
F7: Critical | G7: 10
A18: =ProjPlan!A1 -> [PROJECT NAME] | D18: *** Use the QDIRF Unless a Dedicated Log is Required **** | K18: *** Hide this Tab if QDIRF is Used or Delete Red Text *** | O18: Log Version#: | P18: =ProjPlan!I1 -> [DATE]
A19: ID | B19: Date Raised | C19: Raised By | D19: Category | E19: Description of Risk | F19: Prob. Low=1 Med=5 High=10 | G19: Impact Low=1 Med=5 High=10 | J19: Score Prob. X Impact | K19: Wtd Score 0-100 | L19: Description of Impact | M19: Response Strategy | N19: Action (Risk Response) | O19: Owner | P19: Outcome
A20: 1 | B20: 40056 | C20: 1. Frank | D20: Resource Risks | E20: Finding operational TM Leader/Chair | F20: 7.High | G20: Critical | K20: =IF(ISBLANK(F20),"",IF(ISBLANK(G20),"",VLOOKUP(F20,L_ValueScore,2)*VLOOKUP(G20,L_ValueScore,2))) -> #NAME?
A21: 2 | K21: =IF(ISBLANK(F21),"",IF(ISBLANK(G21),"",VLOOKUP(F21,L_ValueScore,2)*VLOOKUP(G21,L_ValueScore,2)))
A22: 3 | K22: =IF(ISBLANK(F22),"",IF(ISBLANK(G22),"",VLOOKUP(F22,L_ValueScore,2)*VLOOKUP(G22,L_ValueScore,2)))
A23: 4 | K23: =IF(ISBLANK(F23),"",IF(ISBLANK(G23),"",VLOOKUP(F23,L_ValueScore,2)*VLOOKUP(G23,L_ValueScore,2)))
A24: 5 | K24: =IF(ISBLANK(F24),"",IF(ISBLANK(G24),"",VLOOKUP(F24,L_ValueScore,2)*VLOOKUP(G24,L_ValueScore,2)))
A25: 6
A26: 7 | F26: 0.Unknown | G26: 0.Unknown | K26: =IF(ISBLANK(F26),"",IF(ISBLANK(G26),"",VLOOKUP(F26,L_ValueScore,2)*VLOOKUP(G26,L_ValueScore,2))) -> #NAME?
A27: 8 | F27: 0.Unknown | G27: 0.Unknown | K27: =IF(ISBLANK(F27),"",IF(ISBLANK(G27),"",VLOOKUP(F27,L_ValueScore,2)*VLOOKUP(G27,L_ValueScore,2))) -> #NAME?
A28: 9 | F28: 0.Unknown | G28: 0.Unknown | K28: =IF(ISBLANK(F28),"",IF(ISBLANK(G28),"",VLOOKUP(F28,L_ValueScore,2)*VLOOKUP(G28,L_ValueScore,2))) -> #NAME?
A29: 10 | F29: 0.Unknown | G29: 0.Unknown | K29: =IF(ISBLANK(F29),"",IF(ISBLANK(G29),"",VLOOKUP(F29,L_ValueScore,2)*VLOOKUP(G29,L_ValueScore,2))) -> #NAME?
A30: 11 | F30: 0.Unknown | G30: 0.Unknown | K30: =IF(ISBLANK(F30),"",IF(ISBLANK(G30),"",VLOOKUP(F30,L_ValueScore,2)*VLOOKUP(G30,L_ValueScore,2))) -> #NAME?
A31: 12 | F31: 0.Unknown | G31: 0.Unknown | K31: =IF(ISBLANK(F31),"",IF(ISBLANK(G31),"",VLOOKUP(F31,L_ValueScore,2)*VLOOKUP(G31,L_ValueScore,2))) -> #NAME?
A32: 13 | F32: 0.Unknown | G32: 0.Unknown | K32: =IF(ISBLANK(F32),"",IF(ISBLANK(G32),"",VLOOKUP(F32,L_ValueScore,2)*VLOOKUP(G32,L_ValueScore,2))) -> #NAME?
A33: 14 | F33: 0.Unknown | G33: 0.Unknown | K33: =IF(ISBLANK(F33),"",IF(ISBLANK(G33),"",VLOOKUP(F33,L_ValueScore,2)*VLOOKUP(G33,L_ValueScore,2))) -> #NAME?
A34: 15 | F34: 0.Unknown | G34: 0.Unknown | K34: =IF(ISBLANK(F34),"",IF(ISBLANK(G34),"",VLOOKUP(F34,L_ValueScore,2)*VLOOKUP(G34,L_ValueScore,2))) -> #NAME?
A35: 16 | F35: 0.Unknown | G35: 0.Unknown | K35: =IF(ISBLANK(F35),"",IF(ISBLANK(G35),"",VLOOKUP(F35,L_ValueScore,2)*VLOOKUP(G35,L_ValueScore,2))) -> #NAME?
A36: 17 | F36: 0.Unknown | G36: 0.Unknown | K36: =IF(ISBLANK(F36),"",IF(ISBLANK(G36),"",VLOOKUP(F36,L_ValueScore,2)*VLOOKUP(G36,L_ValueScore,2))) -> #NAME?
A37: 18 | F37: 0.Unknown | G37: 0.Unknown | K37: =IF(ISBLANK(F37),"",IF(ISBLANK(G37),"",VLOOKUP(F37,L_ValueScore,2)*VLOOKUP(G37,L_ValueScore,2))) -> #NAME?
... A44: 25 | F44: 8. Very High | G44: Critical | K44: =IF(ISBLANK(F44),"",IF(ISBLANK(G44),"",VLOOKUP(F44,L_ValueScore,2)*VLOOKUP(G44,L_ValueScore,2))) -> #NAME?
B45: < 10 | C45: Low Risk, monitor but no action | F45: 49 | G45: Moderate risk, monitor risk and engage action | M45: 64 | N45: High risk, monitor risk, steering group action requested
B46: 15-35 | C46: Low risk, active monitoring but no action | F46: 56 | G46: Moderate risk, monitor risk, engage action, flag to steering group | M46: 80+ | N46: Extreme risk, project champion to mediate and correct

Sheet Issue Log
B1: =ProjPlan!A1 -> [PROJECT NAME] | D1: *** Use the QDIRF Unless a Dedicated Log is Required **** | L1: Log Version#: | M1: =ProjPlan!I1 -> [DATE]
B2: Red | C2: = Reassigned to Risk Log | D2: *** Hide this Tab if QDIRF is Used or Delete Red Text *** | K2: =SUMIF(F$6:F$298,"Open",A$6:A$298) -> 0 | L2: Open Issues
K3: =SUMIF(F$6:F$298,"Assigned",A$6:A$298) -> 0 | L3: Assigned Issues
K4: =SUMIF(F$6:F$298,"CLosed",A$6:A$298) -> 0 | L4: Closed Issues
B5: ID | C5: Issue | D5: Action Item (including resolution description) | E5: Phase | F5: Status -Open -Assig'd -Closed | G5: Opened dd/mm/yyyy | H5: Due Date (if available) | I5: Completed Date | J5: Raised by | K5: Assig'd To | L5: Severity (Impact) a | M5: Project Component b
A6: 1 | B6: 1
A7: 1 | B7: 2
A8: 1 | B8: 3
A9: 1 | B9: 4
A10: 1 | B10: 5
A11: 1 | B11: 6
A12: 1 | B12: 7
A13: 1 | B13: 8
A14: 1 | B14: 9
A15: 1 | B15: 10
A16: 1 | B16: 11
A17: 1 | B17: 12
... A53: 1 | B53: 48
A54: 1 | B54: Notes | C54: (a) 1 - Critical; 2 - Serious; 3 - Minor; 4 - No Impact
A55: 1 | C55: (b) Production; Writing; Maps; Resources; Distribution
A56: 1
A57: 1
A58: 1
A59: 1
A60: 1
A61: 1
A62: 1
A63: 1
A64: 1
A65: 1
A66: 1
A67: 1
... A299: 1

Sheet LF-Charter
A1: =Flags!$B$1 -> [PROJECT NAME] | C1: *** Hide this Tab if a Logical Framework NOT is Needed *** | D1: Version: | E1: =Flags!$B$6 -> [DATE]
A2: WHAT | B2: Summary | C2: Indicators | D2: Verification | E2: Assumptions
A3: Goal | C3: 1) 2) 3) | D3: a. b. c. d. | E3: ASSUMPTION - IN SCOPE - OUT of SCOPE -
A4: Purpose | C4: 1) 2) 3) | D4: a. b. c. d. | E4: ASSUMPTION - IN SCOPE - OUT of SCOPE -
A5: Outputs | C5: 1) 2) 3) | D5: a. b. c. d. | E5: ASSUMPTION - IN SCOPE - OUT of SCOPE -
A6: Activities | C6: 1) 2) 3) | D6: a. b. c. d. | E6: ASSUMPTION - IN SCOPE - OUT of SCOPE -

Sheet Flags
A1: Project Name: | B1: [PROJECT NAME]
A2: Sub | B2: Sub Project
A3: 123 | B3: Sub Component 123
A4: 456 | B4: Sub Component 456
A6: Version | B6: [DATE]
A8: QIR
A9: Question | B9: unknown relating to the project that may escalate to an issue, risk or task or only require clarification.
A10: Decision | B10: Formal Decision to close the gap
A11: Fault | B11: Defect or problem identified
A12: Issue | B12: Current gap that could hinder project progress
A13: Risk | B13: Possible future occurence impacting the project
A16: Priority
A17: a.TBD | B17: Not evaluated
A18: b.Low | B18: As time and resources permit
A19: c.Medium | B19: Resolve soon if resources permit
A20: d.High | B20: Critical attention is required
A22: QIR Status | B22: Description
A23: a.Open | B23: Actively managed
A24: c.Closed | B24: Resolved
A25: t.Transferred | B25: Promoted to Issue, Task, Risk, Decision, or Other
A26: z.Abandoned | B26: Closed without resolution
A28: _Who | B28: Who is assigned to the Task or Question?
A29: - | B29: USE Contact List
A30: 0.Unassigned
A31: 1. Name
A32: 2. Name
A33: 3. Name
A34: 4.
A35: 5.
A36: zEnd
A38: _Status | B38: What is the Status of Task?
A39: -
A40: 1.Not Started
A41: 3.In Progress
A42: 8.Abandoned
A43: 9.Completed
A44: zEnd
A46: _Type | B46: Type of Project Plan Activity
A48: 1. Milestone
A49: 2. Task
A50: zEnd
